Package: CAGEr Version: 2.12.0 Command: /Library/Frameworks/R.framework/Resources/bin/R CMD build --keep-empty-dirs --no-resave-data CAGEr StartedAt: 2025-02-03 19:56:44 -0500 (Mon, 03 Feb 2025) EndedAt: 2025-02-03 20:00:33 -0500 (Mon, 03 Feb 2025) EllapsedTime: 228.9 seconds RetCode: 0 Status: OK PackageFile: CAGEr_2.12.0.tar.gz PackageFileSize: 1.858 MiB