Package: CAGEr Version: 2.12.0 Command: /Library/Frameworks/R.framework/Resources/bin/R CMD INSTALL CAGEr StartedAt: 2025-02-10 16:50:55 -0500 (Mon, 10 Feb 2025) EndedAt: 2025-02-10 16:52:09 -0500 (Mon, 10 Feb 2025) EllapsedTime: 74.5 seconds RetCode: 0 Status: OK