Package: CAGEr Version: 2.12.0 Command: rm -rf CAGEr.buildbin-libdir && mkdir CAGEr.buildbin-libdir && /Users/biocbuild/BBS/utils/build-universal.sh CAGEr_2.12.0.tar.gz /Library/Frameworks/R.framework/Resources/bin/R CAGEr.buildbin-libdir StartedAt: 2025-02-04 12:35:34 -0500 (Tue, 04 Feb 2025) EndedAt: 2025-02-04 12:38:01 -0500 (Tue, 04 Feb 2025) EllapsedTime: 147.4 seconds RetCode: 0 Status: OK PackageFile: CAGEr_2.12.0.tgz PackageFileSize: 3.057 MiB