Package: CAGEr Version: 2.12.0 Command: /Library/Frameworks/R.framework/Resources/bin/R CMD INSTALL CAGEr StartedAt: 2025-02-03 16:12:07 -0500 (Mon, 03 Feb 2025) EndedAt: 2025-02-03 16:14:23 -0500 (Mon, 03 Feb 2025) EllapsedTime: 136.2 seconds RetCode: 0 Status: OK