Package: CAGEr Version: 2.12.0 Command: /home/biocbuild/bbs-3.20-bioc/R/bin/R CMD INSTALL CAGEr StartedAt: 2025-02-03 15:46:42 -0500 (Mon, 03 Feb 2025) EndedAt: 2025-02-03 15:47:54 -0500 (Mon, 03 Feb 2025) EllapsedTime: 72.6 seconds RetCode: 0 Status: OK