Package: CAGEr Version: 2.12.0 Command: rm -rf CAGEr.buildbin-libdir && mkdir CAGEr.buildbin-libdir && F:\biocbuild\bbs-3.20-bioc\R\bin\R.exe CMD INSTALL --build --library=CAGEr.buildbin-libdir CAGEr_2.12.0.tar.gz StartedAt: 2025-02-04 08:07:13 -0500 (Tue, 04 Feb 2025) EndedAt: 2025-02-04 08:09:58 -0500 (Tue, 04 Feb 2025) EllapsedTime: 165.7 seconds RetCode: 0 Status: OK PackageFile: CAGEr_2.12.0.zip PackageFileSize: 2.768 MiB