Package: CAGEr Version: 2.12.0 Command: chmod a+r CAGEr -R && F:\biocbuild\bbs-3.20-bioc\R\bin\R.exe CMD build --keep-empty-dirs --no-resave-data CAGEr StartedAt: 2025-02-03 17:55:16 -0500 (Mon, 03 Feb 2025) EndedAt: 2025-02-03 18:00:15 -0500 (Mon, 03 Feb 2025) EllapsedTime: 299.4 seconds RetCode: 0 Status: OK PackageFile: CAGEr_2.12.0.tar.gz PackageFileSize: 1.579 MiB