Package: CAGEr Version: 2.12.0 Command: F:\biocbuild\bbs-3.20-bioc\R\bin\R.exe CMD INSTALL CAGEr StartedAt: 2025-02-10 16:26:22 -0500 (Mon, 10 Feb 2025) EndedAt: 2025-02-10 16:28:53 -0500 (Mon, 10 Feb 2025) EllapsedTime: 151.6 seconds RetCode: 0 Status: OK