Package: CARNIVAL Version: 2.16.0 Command: /Library/Frameworks/R.framework/Resources/bin/R CMD build --keep-empty-dirs --no-resave-data CARNIVAL StartedAt: 2025-02-03 17:39:15 -0500 (Mon, 03 Feb 2025) EndedAt: 2025-02-03 17:39:37 -0500 (Mon, 03 Feb 2025) EllapsedTime: 21.8 seconds RetCode: 0 Status: OK PackageFile: CARNIVAL_2.16.0.tar.gz PackageFileSize: 2.047 MiB