Package: CARNIVAL Version: 2.16.0 Command: /home/biocbuild/bbs-3.20-bioc/R/bin/R CMD INSTALL CARNIVAL StartedAt: 2025-02-03 15:38:49 -0500 (Mon, 03 Feb 2025) EndedAt: 2025-02-03 15:38:54 -0500 (Mon, 03 Feb 2025) EllapsedTime: 5.2 seconds RetCode: 0 Status: OK