Package: CARNIVAL Version: 2.16.0 Command: chmod a+r CARNIVAL -R && F:\biocbuild\bbs-3.20-bioc\R\bin\R.exe CMD build --keep-empty-dirs --no-resave-data CARNIVAL StartedAt: 2025-02-03 17:56:59 -0500 (Mon, 03 Feb 2025) EndedAt: 2025-02-03 17:57:51 -0500 (Mon, 03 Feb 2025) EllapsedTime: 52.1 seconds RetCode: 0 Status: OK PackageFile: CARNIVAL_2.16.0.tar.gz PackageFileSize: 2.047 MiB