Package: CARNIVAL Version: 2.16.0 Command: /home/biocbuild/R/R/bin/R CMD INSTALL CARNIVAL StartedAt: 2025-02-03 20:53:14 -0000 (Mon, 03 Feb 2025) EndedAt: 2025-02-03 20:53:21 -0000 (Mon, 03 Feb 2025) EllapsedTime: 6.6 seconds RetCode: 0 Status: OK