Package: CBEA Version: 1.6.0 Command: rm -rf CBEA.buildbin-libdir && mkdir CBEA.buildbin-libdir && /Users/biocbuild/BBS/utils/build-universal.sh CBEA_1.6.0.tar.gz /Library/Frameworks/R.framework/Resources/bin/R CBEA.buildbin-libdir StartedAt: 2025-02-12 14:21:23 -0500 (Wed, 12 Feb 2025) EndedAt: 2025-02-12 14:22:10 -0500 (Wed, 12 Feb 2025) EllapsedTime: 47.3 seconds RetCode: 0 Status: OK PackageFile: CBEA_1.6.0.tgz PackageFileSize: 2.174 MiB