Package: CBEA Version: 1.6.0 Command: /Library/Frameworks/R.framework/Resources/bin/R CMD INSTALL CBEA StartedAt: 2025-02-03 16:19:18 -0500 (Mon, 03 Feb 2025) EndedAt: 2025-02-03 16:20:40 -0500 (Mon, 03 Feb 2025) EllapsedTime: 82.0 seconds RetCode: 0 Status: OK