Package: CBEA Version: 1.6.0 Command: /home/biocbuild/bbs-3.20-bioc/R/bin/R CMD INSTALL CBEA StartedAt: 2025-02-03 15:51:18 -0500 (Mon, 03 Feb 2025) EndedAt: 2025-02-03 15:52:01 -0500 (Mon, 03 Feb 2025) EllapsedTime: 43.1 seconds RetCode: 0 Status: OK