Package: CBEA Version: 1.6.0 Command: chmod a+r CBEA -R && F:\biocbuild\bbs-3.20-bioc\R\bin\R.exe CMD build --keep-empty-dirs --no-resave-data CBEA StartedAt: 2025-02-10 17:51:51 -0500 (Mon, 10 Feb 2025) EndedAt: 2025-02-10 17:53:22 -0500 (Mon, 10 Feb 2025) EllapsedTime: 91.5 seconds RetCode: 0 Status: OK PackageFile: CBEA_1.6.0.tar.gz PackageFileSize: 2.089 MiB