Package: CBEA Version: 1.6.0 Command: /home/biocbuild/R/R/bin/R CMD check --install=check:CBEA.install-out.txt --library=/home/biocbuild/R/R/site-library --no-vignettes --timings CBEA_1.6.0.tar.gz StartedAt: 2025-02-04 05:22:50 -0000 (Tue, 04 Feb 2025) EndedAt: 2025-02-04 05:28:24 -0000 (Tue, 04 Feb 2025) EllapsedTime: 334.3 seconds RetCode: 0 Status: OK CheckDir: CBEA.Rcheck Warnings: 0