Package: CBEA Version: 1.6.0 Command: /home/biocbuild/R/R/bin/R CMD INSTALL CBEA StartedAt: 2025-02-10 20:52:15 -0000 (Mon, 10 Feb 2025) EndedAt: 2025-02-10 20:53:05 -0000 (Mon, 10 Feb 2025) EllapsedTime: 49.9 seconds RetCode: 0 Status: OK