Package: CCPROMISE Version: 1.32.0 Command: rm -rf CCPROMISE.buildbin-libdir && mkdir CCPROMISE.buildbin-libdir && /Users/biocbuild/BBS/utils/build-universal.sh CCPROMISE_1.32.0.tar.gz /Library/Frameworks/R.framework/Resources/bin/R CCPROMISE.buildbin-libdir StartedAt: 2025-01-31 12:28:50 -0500 (Fri, 31 Jan 2025) EndedAt: 2025-01-31 12:29:26 -0500 (Fri, 31 Jan 2025) EllapsedTime: 36.0 seconds RetCode: 0 Status: OK PackageFile: CCPROMISE_1.32.0.tgz PackageFileSize: 1.08 MiB