Package: CCPROMISE Version: 1.32.0 Command: /home/biocbuild/R/R/bin/R CMD build --keep-empty-dirs --no-resave-data CCPROMISE StartedAt: 2025-02-03 22:26:18 -0000 (Mon, 03 Feb 2025) EndedAt: 2025-02-03 22:27:08 -0000 (Mon, 03 Feb 2025) EllapsedTime: 50.0 seconds RetCode: 0 Status: OK PackageFile: CCPROMISE_1.32.0.tar.gz PackageFileSize: 1.028 MiB