Package: CDI Version: 1.4.0 Command: rm -rf CDI.buildbin-libdir && mkdir CDI.buildbin-libdir && /Users/biocbuild/BBS/utils/build-universal.sh CDI_1.4.0.tar.gz /Library/Frameworks/R.framework/Resources/bin/R CDI.buildbin-libdir StartedAt: 2025-02-05 15:08:08 -0500 (Wed, 05 Feb 2025) EndedAt: 2025-02-05 15:08:53 -0500 (Wed, 05 Feb 2025) EllapsedTime: 44.9 seconds RetCode: 0 Status: OK PackageFile: CDI_1.4.0.tgz PackageFileSize: 2.117 MiB