Package: CDI Version: 1.4.0 Command: /Library/Frameworks/R.framework/Resources/bin/R CMD INSTALL CDI StartedAt: 2025-02-10 18:13:46 -0500 (Mon, 10 Feb 2025) EndedAt: 2025-02-10 18:14:29 -0500 (Mon, 10 Feb 2025) EllapsedTime: 43.6 seconds RetCode: 0 Status: OK