Package: CDI Version: 1.4.0 Command: /home/biocbuild/bbs-3.20-bioc/R/bin/R CMD build --keep-empty-dirs --no-resave-data --md5 CDI StartedAt: 2025-02-10 16:36:57 -0500 (Mon, 10 Feb 2025) EndedAt: 2025-02-10 16:44:42 -0500 (Mon, 10 Feb 2025) EllapsedTime: 465.5 seconds RetCode: 0 Status: OK PackageFile: CDI_1.4.0.tar.gz PackageFileSize: 2.051 MiB