Package: CDI Version: 1.4.0 Command: rm -rf CDI.buildbin-libdir && mkdir CDI.buildbin-libdir && F:\biocbuild\bbs-3.20-bioc\R\bin\R.exe CMD INSTALL --build --library=CDI.buildbin-libdir CDI_1.4.0.tar.gz StartedAt: 2025-02-04 08:09:17 -0500 (Tue, 04 Feb 2025) EndedAt: 2025-02-04 08:10:00 -0500 (Tue, 04 Feb 2025) EllapsedTime: 43.1 seconds RetCode: 0 Status: OK PackageFile: CDI_1.4.0.zip PackageFileSize: 1.854 MiB