Package: CDI Version: 1.4.0 Command: F:\biocbuild\bbs-3.20-bioc\R\bin\R.exe CMD INSTALL CDI StartedAt: 2025-02-03 16:30:09 -0500 (Mon, 03 Feb 2025) EndedAt: 2025-02-03 16:30:58 -0500 (Mon, 03 Feb 2025) EllapsedTime: 49.1 seconds RetCode: 0 Status: OK