Package: CDI Version: 1.4.0 Command: /home/biocbuild/R/R/bin/R CMD check --install=check:CDI.install-out.txt --library=/home/biocbuild/R/R/site-library --no-vignettes --timings CDI_1.4.0.tar.gz StartedAt: 2025-02-04 05:25:50 -0000 (Tue, 04 Feb 2025) EndedAt: 2025-02-04 05:31:01 -0000 (Tue, 04 Feb 2025) EllapsedTime: 311.2 seconds RetCode: 0 Status: OK CheckDir: CDI.Rcheck Warnings: 0