Package: CEMiTool Version: 1.30.0 Command: /Library/Frameworks/R.framework/Resources/bin/R CMD check --install=check:CEMiTool.install-out.txt --library=/Library/Frameworks/R.framework/Resources/library --no-vignettes --timings CEMiTool_1.30.0.tar.gz StartedAt: 2025-02-04 01:01:19 -0500 (Tue, 04 Feb 2025) EndedAt: 2025-02-04 01:10:27 -0500 (Tue, 04 Feb 2025) EllapsedTime: 547.4 seconds RetCode: 0 Status: OK CheckDir: CEMiTool.Rcheck Warnings: 0