Package: CFAssay Version: 1.40.0 Command: /Library/Frameworks/R.framework/Resources/bin/R CMD check --install=check:CFAssay.install-out.txt --library=/Library/Frameworks/R.framework/Resources/library --no-vignettes --timings CFAssay_1.40.0.tar.gz StartedAt: 2025-02-04 01:03:18 -0500 (Tue, 04 Feb 2025) EndedAt: 2025-02-04 01:04:02 -0500 (Tue, 04 Feb 2025) EllapsedTime: 44.8 seconds RetCode: 0 Status: OK CheckDir: CFAssay.Rcheck Warnings: 0