Package: CFAssay Version: 1.40.0 Command: /home/biocbuild/R/R/bin/R CMD build --keep-empty-dirs --no-resave-data CFAssay StartedAt: 2025-02-03 22:31:17 -0000 (Mon, 03 Feb 2025) EndedAt: 2025-02-03 22:31:24 -0000 (Mon, 03 Feb 2025) EllapsedTime: 7.0 seconds RetCode: 0 Status: OK PackageFile: CFAssay_1.40.0.tar.gz PackageFileSize: 312.2 KiB