Package: CFAssay Version: 1.40.0 Command: /home/biocbuild/R/R/bin/R CMD INSTALL CFAssay StartedAt: 2025-02-03 20:28:15 -0000 (Mon, 03 Feb 2025) EndedAt: 2025-02-03 20:28:41 -0000 (Mon, 03 Feb 2025) EllapsedTime: 25.9 seconds RetCode: 0 Status: OK