Package: CGHbase Version: 1.66.0 Command: /Library/Frameworks/R.framework/Resources/bin/R CMD check --install=check:CGHbase.install-out.txt --library=/Library/Frameworks/R.framework/Resources/library --no-vignettes --timings CGHbase_1.66.0.tar.gz StartedAt: 2025-02-04 14:25:39 -0500 (Tue, 04 Feb 2025) EndedAt: 2025-02-04 14:26:29 -0500 (Tue, 04 Feb 2025) EllapsedTime: 50.2 seconds RetCode: 0 Status: OK CheckDir: CGHbase.Rcheck Warnings: 0