Package: CGHbase Version: 1.66.0 Command: /Library/Frameworks/R.framework/Resources/bin/R CMD build --keep-empty-dirs --no-resave-data CGHbase StartedAt: 2025-02-03 17:46:52 -0500 (Mon, 03 Feb 2025) EndedAt: 2025-02-03 17:46:54 -0500 (Mon, 03 Feb 2025) EllapsedTime: 2.2 seconds RetCode: 0 Status: OK PackageFile: CGHbase_1.66.0.tar.gz PackageFileSize: 848 KiB