Package: CGHbase Version: 1.66.0 Command: /Library/Frameworks/R.framework/Resources/bin/R CMD INSTALL CGHbase StartedAt: 2025-02-10 15:10:09 -0500 (Mon, 10 Feb 2025) EndedAt: 2025-02-10 15:10:28 -0500 (Mon, 10 Feb 2025) EllapsedTime: 18.5 seconds RetCode: 0 Status: OK