Package: CGHcall Version: 2.68.0 Command: F:\biocbuild\bbs-3.20-bioc\R\bin\R.exe CMD check --no-multiarch --install=check:CGHcall.install-out.txt --library=F:\biocbuild\bbs-3.20-bioc\R\library --no-vignettes --timings CGHcall_2.68.0.tar.gz StartedAt: 2025-02-04 00:10:20 -0500 (Tue, 04 Feb 2025) EndedAt: 2025-02-04 00:11:08 -0500 (Tue, 04 Feb 2025) EllapsedTime: 47.9 seconds RetCode: 0 Status: WARNINGS CheckDir: CGHcall.Rcheck Warnings: 1