Package: CGHcall Version: 2.68.0 Command: F:\biocbuild\bbs-3.20-bioc\R\bin\R.exe CMD INSTALL CGHcall StartedAt: 2025-02-03 15:42:34 -0500 (Mon, 03 Feb 2025) EndedAt: 2025-02-03 15:43:02 -0500 (Mon, 03 Feb 2025) EllapsedTime: 28.1 seconds RetCode: 0 Status: OK