Package: CGHcall Version: 2.68.0 Command: /home/biocbuild/R/R/bin/R CMD build --keep-empty-dirs --no-resave-data CGHcall StartedAt: 2025-02-10 22:17:29 -0000 (Mon, 10 Feb 2025) EndedAt: 2025-02-10 22:17:53 -0000 (Mon, 10 Feb 2025) EllapsedTime: 24.0 seconds RetCode: 0 Status: OK PackageFile: CGHcall_2.68.0.tar.gz PackageFileSize: 445.3 KiB