Package: CGHcall Version: 2.68.0 Command: /home/biocbuild/R/R/bin/R CMD INSTALL CGHcall StartedAt: 2025-02-03 20:28:08 -0000 (Mon, 03 Feb 2025) EndedAt: 2025-02-03 20:28:40 -0000 (Mon, 03 Feb 2025) EllapsedTime: 32.4 seconds RetCode: 0 Status: OK