Package: CGHnormaliter Version: 1.60.0 Command: /Library/Frameworks/R.framework/Resources/bin/R CMD check --install=check:CGHnormaliter.install-out.txt --library=/Library/Frameworks/R.framework/Resources/library --no-vignettes --timings CGHnormaliter_1.60.0.tar.gz StartedAt: 2025-02-11 14:10:31 -0500 (Tue, 11 Feb 2025) EndedAt: 2025-02-11 14:12:13 -0500 (Tue, 11 Feb 2025) EllapsedTime: 101.8 seconds RetCode: 0 Status: OK CheckDir: CGHnormaliter.Rcheck Warnings: 0