Package: CGHnormaliter Version: 1.60.0 Command: rm -rf CGHnormaliter.buildbin-libdir && mkdir CGHnormaliter.buildbin-libdir && /Users/biocbuild/BBS/utils/build-universal.sh CGHnormaliter_1.60.0.tar.gz /Library/Frameworks/R.framework/Resources/bin/R CGHnormaliter.buildbin-libdir StartedAt: 2025-02-04 12:38:09 -0500 (Tue, 04 Feb 2025) EndedAt: 2025-02-04 12:38:21 -0500 (Tue, 04 Feb 2025) EllapsedTime: 11.7 seconds RetCode: 0 Status: OK PackageFile: CGHnormaliter_1.60.0.tgz PackageFileSize: 1.264 MiB