Package: CGHnormaliter Version: 1.60.0 Command: /Library/Frameworks/R.framework/Resources/bin/R CMD build --keep-empty-dirs --no-resave-data CGHnormaliter StartedAt: 2025-02-03 17:47:10 -0500 (Mon, 03 Feb 2025) EndedAt: 2025-02-03 17:49:04 -0500 (Mon, 03 Feb 2025) EllapsedTime: 113.8 seconds RetCode: 0 Status: OK PackageFile: CGHnormaliter_1.60.0.tar.gz PackageFileSize: 1.243 MiB