Package: CGHnormaliter Version: 1.60.0 Command: /Library/Frameworks/R.framework/Resources/bin/R CMD check --install=check:CGHnormaliter.install-out.txt --library=/Library/Frameworks/R.framework/Resources/library --no-vignettes --timings CGHnormaliter_1.60.0.tar.gz StartedAt: 2025-02-04 01:05:56 -0500 (Tue, 04 Feb 2025) EndedAt: 2025-02-04 01:08:45 -0500 (Tue, 04 Feb 2025) EllapsedTime: 169.5 seconds RetCode: 0 Status: OK CheckDir: CGHnormaliter.Rcheck Warnings: 0