Package: CGHnormaliter Version: 1.60.0 Command: chmod a+r CGHnormaliter -R && F:\biocbuild\bbs-3.20-bioc\R\bin\R.exe CMD build --keep-empty-dirs --no-resave-data CGHnormaliter StartedAt: 2025-02-03 18:04:38 -0500 (Mon, 03 Feb 2025) EndedAt: 2025-02-03 18:05:47 -0500 (Mon, 03 Feb 2025) EllapsedTime: 69.7 seconds RetCode: 0 Status: OK PackageFile: CGHnormaliter_1.60.0.tar.gz PackageFileSize: 1.127 MiB