Package: CGHnormaliter Version: 1.60.0 Command: F:\biocbuild\bbs-3.20-bioc\R\bin\R.exe CMD INSTALL CGHnormaliter StartedAt: 2025-02-03 15:43:28 -0500 (Mon, 03 Feb 2025) EndedAt: 2025-02-03 15:43:43 -0500 (Mon, 03 Feb 2025) EllapsedTime: 14.9 seconds RetCode: 0 Status: OK