Package: CGHnormaliter Version: 1.60.0 Command: /home/biocbuild/R/R/bin/R CMD check --install=check:CGHnormaliter.install-out.txt --library=/home/biocbuild/R/R/site-library --no-vignettes --timings CGHnormaliter_1.60.0.tar.gz StartedAt: 2025-02-04 05:32:10 -0000 (Tue, 04 Feb 2025) EndedAt: 2025-02-04 05:33:39 -0000 (Tue, 04 Feb 2025) EllapsedTime: 89.1 seconds RetCode: 0 Status: OK CheckDir: CGHnormaliter.Rcheck Warnings: 0