Package: CHETAH Version: 1.22.0 Command: /Library/Frameworks/R.framework/Resources/bin/R CMD check --install=check:CHETAH.install-out.txt --library=/Library/Frameworks/R.framework/Resources/library --no-vignettes --timings CHETAH_1.22.0.tar.gz StartedAt: 2025-02-04 01:06:28 -0500 (Tue, 04 Feb 2025) EndedAt: 2025-02-04 01:15:19 -0500 (Tue, 04 Feb 2025) EllapsedTime: 531.4 seconds RetCode: 0 Status: OK CheckDir: CHETAH.Rcheck Warnings: 0