Package: CHETAH Version: 1.22.0 Command: rm -rf CHETAH.buildbin-libdir && mkdir CHETAH.buildbin-libdir && F:\biocbuild\bbs-3.20-bioc\R\bin\R.exe CMD INSTALL --build --library=CHETAH.buildbin-libdir CHETAH_1.22.0.tar.gz StartedAt: 2025-02-04 08:10:58 -0500 (Tue, 04 Feb 2025) EndedAt: 2025-02-04 08:11:32 -0500 (Tue, 04 Feb 2025) EllapsedTime: 33.7 seconds RetCode: 0 Status: OK PackageFile: CHETAH_1.22.0.zip PackageFileSize: 3.235 MiB