Package: CHETAH Version: 1.22.0 Command: /home/biocbuild/R/R/bin/R CMD build --keep-empty-dirs --no-resave-data CHETAH StartedAt: 2025-02-03 22:32:55 -0000 (Mon, 03 Feb 2025) EndedAt: 2025-02-03 22:34:22 -0000 (Mon, 03 Feb 2025) EllapsedTime: 87.0 seconds RetCode: 0 Status: OK PackageFile: CHETAH_1.22.0.tar.gz PackageFileSize: 3.31 MiB