Package: CINdex Version: 1.34.0 Command: /Library/Frameworks/R.framework/Resources/bin/R CMD check --install=check:CINdex.install-out.txt --library=/Library/Frameworks/R.framework/Resources/library --no-vignettes --timings CINdex_1.34.0.tar.gz StartedAt: 2025-02-11 14:34:12 -0500 (Tue, 11 Feb 2025) EndedAt: 2025-02-11 14:36:48 -0500 (Tue, 11 Feb 2025) EllapsedTime: 155.7 seconds RetCode: 0 Status: WARNINGS CheckDir: CINdex.Rcheck Warnings: 1