Package: CINdex Version: 1.34.0 Command: /Library/Frameworks/R.framework/Resources/bin/R CMD check --install=check:CINdex.install-out.txt --library=/Library/Frameworks/R.framework/Resources/library --no-vignettes --timings CINdex_1.34.0.tar.gz StartedAt: 2025-02-04 01:15:19 -0500 (Tue, 04 Feb 2025) EndedAt: 2025-02-04 01:19:45 -0500 (Tue, 04 Feb 2025) EllapsedTime: 266.1 seconds RetCode: 0 Status: WARNINGS CheckDir: CINdex.Rcheck Warnings: 1