Package: CINdex Version: 1.34.0 Command: /Library/Frameworks/R.framework/Resources/bin/R CMD INSTALL CINdex StartedAt: 2025-02-10 15:17:46 -0500 (Mon, 10 Feb 2025) EndedAt: 2025-02-10 15:18:37 -0500 (Mon, 10 Feb 2025) EllapsedTime: 51.2 seconds RetCode: 0 Status: OK